BEGIN:VCALENDAR
VERSION:2.0
PRODID:-//Markedspartner//HubSpot Event Export//EN
CALSCALE:GREGORIAN
METHOD:PUBLISH
BEGIN:VEVENT
UID:hubspot-2-39126766-217363124461@markedspartner.no
DTSTAMP:20260419T164950Z
DTSTART:20251001T063000Z
DTEND:20251001T133000Z
SUMMARY:Area orientation
END:VEVENT
END:VCALENDAR
