BEGIN:VCALENDAR
VERSION:2.0
PRODID:-//Markedspartner//HubSpot Event Export//EN
CALSCALE:GREGORIAN
METHOD:PUBLISH
BEGIN:VEVENT
UID:hubspot-2-39126766-217363137777@markedspartner.no
DTSTAMP:20260419T164924Z
DTSTART:20250904T063000Z
DTEND:20250904T083000Z
SUMMARY:De harde konsekvensene av formuesskatten
END:VEVENT
END:VCALENDAR
