BEGIN:VCALENDAR
VERSION:2.0
PRODID:-//Markedspartner//HubSpot Event Export//EN
CALSCALE:GREGORIAN
METHOD:PUBLISH
BEGIN:VEVENT
UID:hubspot-2-39126766-220681396466@markedspartner.no
DTSTAMP:20260420T041238Z
DTSTART:20251022T081500Z
DTEND:20251022T170000Z
SUMMARY:Ryfylkekonferansen – Arena Mor 2025: KUN ONSDAG
END:VEVENT
END:VCALENDAR
