BEGIN:VCALENDAR
VERSION:2.0
PRODID:-//Markedspartner//HubSpot Event Export//EN
CALSCALE:GREGORIAN
METHOD:PUBLISH
BEGIN:VEVENT
UID:hubspot-2-39126766-221084494038@markedspartner.no
DTSTAMP:20260419T192016Z
DTSTART:20251023T064500Z
DTEND:20251023T123000Z
SUMMARY:Ryfylkekonferansen – Arena Mor 2025: KUN TORSDAG
END:VEVENT
END:VCALENDAR
