BEGIN:VCALENDAR
VERSION:2.0
PRODID:-//Markedspartner//HubSpot Event Export//EN
CALSCALE:GREGORIAN
METHOD:PUBLISH
BEGIN:VEVENT
UID:hubspot-2-39126766-221924966616@markedspartner.no
DTSTAMP:20260419T192017Z
DTSTART:20250929T154500Z
DTEND:20250929T180000Z
SUMMARY:Master the Stavanger dialect
END:VEVENT
END:VCALENDAR
