BEGIN:VCALENDAR
VERSION:2.0
PRODID:-//Markedspartner//HubSpot Event Export//EN
CALSCALE:GREGORIAN
METHOD:PUBLISH
BEGIN:VEVENT
UID:hubspot-2-39126766-223782448346@markedspartner.no
DTSTAMP:20260419T164921Z
DTSTART:20251021T070000Z
DTEND:20251021T090000Z
SUMMARY:Personlig lederutvikling: Nøkkelen til en lærende organisasjon
END:VEVENT
END:VCALENDAR
