BEGIN:VCALENDAR
VERSION:2.0
PRODID:-//Markedspartner//HubSpot Event Export//EN
CALSCALE:GREGORIAN
METHOD:PUBLISH
BEGIN:VEVENT
UID:hubspot-2-39126766-223783167193@markedspartner.no
DTSTAMP:20260419T164919Z
DTSTART:20260506T070000Z
DTEND:20260506T130000Z
SUMMARY:Leandagen 2026: Hvordan få til mer med mindre
END:VEVENT
END:VCALENDAR
