BEGIN:VCALENDAR
VERSION:2.0
PRODID:-//Markedspartner//HubSpot Event Export//EN
CALSCALE:GREGORIAN
METHOD:PUBLISH
BEGIN:VEVENT
UID:hubspot-2-39126766-225182591215@markedspartner.no
DTSTAMP:20260420T234800Z
DTSTART:20260203T073000Z
DTEND:20260203T093000Z
SUMMARY:KI: Skap forretningsverdi nå!
END:VEVENT
END:VCALENDAR
