BEGIN:VCALENDAR
VERSION:2.0
PRODID:-//Markedspartner//HubSpot Event Export//EN
CALSCALE:GREGORIAN
METHOD:PUBLISH
BEGIN:VEVENT
UID:hubspot-2-39126766-225325001945@markedspartner.no
DTSTAMP:20260419T164947Z
DTSTART:20260128T080000Z
DTEND:20260128T130000Z
SUMMARY:Energihovedstadkonferansen 2026
END:VEVENT
END:VCALENDAR
