BEGIN:VCALENDAR
VERSION:2.0
PRODID:-//Markedspartner//HubSpot Event Export//EN
CALSCALE:GREGORIAN
METHOD:PUBLISH
BEGIN:VEVENT
UID:hubspot-2-39126766-225884168397@markedspartner.no
DTSTAMP:20260420T041239Z
DTSTART:20250930T063000Z
DTEND:20250930T080000Z
SUMMARY:Energifrokost: Geotermisk energi
END:VEVENT
END:VCALENDAR
