BEGIN:VCALENDAR
VERSION:2.0
PRODID:-//Markedspartner//HubSpot Event Export//EN
CALSCALE:GREGORIAN
METHOD:PUBLISH
BEGIN:VEVENT
UID:hubspot-2-39126766-226022503612@markedspartner.no
DTSTAMP:20260419T192128Z
DTSTART:20251015T070000Z
DTEND:20251015T100000Z
SUMMARY:Nøkkelen til lavt sykefravær
END:VEVENT
END:VCALENDAR
