BEGIN:VCALENDAR
VERSION:2.0
PRODID:-//Markedspartner//HubSpot Event Export//EN
CALSCALE:GREGORIAN
METHOD:PUBLISH
BEGIN:VEVENT
UID:hubspot-2-39126766-229459462346@markedspartner.no
DTSTAMP:20260419T192017Z
DTSTART:20251001T060000Z
DTEND:20251001T080000Z
SUMMARY:B2B Næringstreff Sandnes
END:VEVENT
END:VCALENDAR
