BEGIN:VCALENDAR
VERSION:2.0
PRODID:-//Markedspartner//HubSpot Event Export//EN
CALSCALE:GREGORIAN
METHOD:PUBLISH
BEGIN:VEVENT
UID:hubspot-2-39126766-230210819295@markedspartner.no
DTSTAMP:20260419T233807Z
DTSTART:20251219T110000Z
DTEND:20251219T130000Z
SUMMARY:God Jul\, student
END:VEVENT
END:VCALENDAR
