BEGIN:VCALENDAR
VERSION:2.0
PRODID:-//Markedspartner//HubSpot Event Export//EN
CALSCALE:GREGORIAN
METHOD:PUBLISH
BEGIN:VEVENT
UID:hubspot-2-39126766-230862025929@markedspartner.no
DTSTAMP:20260419T192128Z
DTSTART:20251105T070000Z
DTEND:20251105T100000Z
SUMMARY:Verktøykasse for inkluderende arbeidsliv
END:VEVENT
END:VCALENDAR
