BEGIN:VCALENDAR
VERSION:2.0
PRODID:-//Markedspartner//HubSpot Event Export//EN
CALSCALE:GREGORIAN
METHOD:PUBLISH
BEGIN:VEVENT
UID:hubspot-2-39126766-233332358376@markedspartner.no
DTSTAMP:20260419T192127Z
DTSTART:20261224T070000Z
DTEND:20261224T110000Z
SUMMARY:Møt Forsvarssjefen
END:VEVENT
END:VCALENDAR
