BEGIN:VCALENDAR
VERSION:2.0
PRODID:-//Markedspartner//HubSpot Event Export//EN
CALSCALE:GREGORIAN
METHOD:PUBLISH
BEGIN:VEVENT
UID:hubspot-2-39126766-234146973944@markedspartner.no
DTSTAMP:20260420T053227Z
DTSTART:20251022T160000Z
DTEND:20251022T183000Z
SUMMARY:Treffpunkt Dalane: Paneldebatt med ordførerne
END:VEVENT
END:VCALENDAR
