BEGIN:VCALENDAR
VERSION:2.0
PRODID:-//Markedspartner//HubSpot Event Export//EN
CALSCALE:GREGORIAN
METHOD:PUBLISH
BEGIN:VEVENT
UID:hubspot-2-39126766-235175044293@markedspartner.no
DTSTAMP:20260419T164926Z
DTSTART:20251007T100000Z
DTEND:20251007T110000Z
SUMMARY:Invitasjon til infomøte for Sauda og Suldal: Trainee Ryfylke + Trainee SørVest
END:VEVENT
END:VCALENDAR
