BEGIN:VCALENDAR
VERSION:2.0
PRODID:-//Markedspartner//HubSpot Event Export//EN
CALSCALE:GREGORIAN
METHOD:PUBLISH
BEGIN:VEVENT
UID:hubspot-2-39126766-235177203939@markedspartner.no
DTSTAMP:20260419T164948Z
DTSTART:20251118T170000Z
DTEND:20251118T190000Z
SUMMARY:Renting a property
END:VEVENT
END:VCALENDAR
