BEGIN:VCALENDAR
VERSION:2.0
PRODID:-//Markedspartner//HubSpot Event Export//EN
CALSCALE:GREGORIAN
METHOD:PUBLISH
BEGIN:VEVENT
UID:hubspot-2-39126766-235364337857@markedspartner.no
DTSTAMP:20260419T164918Z
DTSTART:20251010T063000Z
DTEND:20251010T080000Z
SUMMARY:Invitasjon til infomøte for Strand og Hjelmeland: Trainee Ryfylke + Trainee SørVest
END:VEVENT
END:VCALENDAR
