BEGIN:VCALENDAR
VERSION:2.0
PRODID:-//Markedspartner//HubSpot Event Export//EN
CALSCALE:GREGORIAN
METHOD:PUBLISH
BEGIN:VEVENT
UID:hubspot-2-39126766-235458702552@markedspartner.no
DTSTAMP:20260419T192128Z
DTSTART:20251007T100000Z
DTEND:20251007T110000Z
SUMMARY:Invitasjon til infomøte i Suldal: Trainee Ryfylke + Trainee SørVest
END:VEVENT
END:VCALENDAR
