BEGIN:VCALENDAR
VERSION:2.0
PRODID:-//Markedspartner//HubSpot Event Export//EN
CALSCALE:GREGORIAN
METHOD:PUBLISH
BEGIN:VEVENT
UID:hubspot-2-39126766-236828669174@markedspartner.no
DTSTAMP:20260419T192128Z
DTSTART:20260205T173000Z
DTEND:20260205T213000Z
SUMMARY:Næringsprisen i Gjesdal
END:VEVENT
END:VCALENDAR
