BEGIN:VCALENDAR
VERSION:2.0
PRODID:-//Markedspartner//HubSpot Event Export//EN
CALSCALE:GREGORIAN
METHOD:PUBLISH
BEGIN:VEVENT
UID:hubspot-2-39126766-237239044345@markedspartner.no
DTSTAMP:20260419T192016Z
DTSTART:20251113T174500Z
DTEND:20251113T200000Z
SUMMARY:Speedfriending 
END:VEVENT
END:VCALENDAR
