BEGIN:VCALENDAR
VERSION:2.0
PRODID:-//Markedspartner//HubSpot Event Export//EN
CALSCALE:GREGORIAN
METHOD:PUBLISH
BEGIN:VEVENT
UID:hubspot-2-39126766-237291642049@markedspartner.no
DTSTAMP:20260420T041123Z
DTSTART:20251209T070000Z
DTEND:20251209T100000Z
SUMMARY:Næringstreff Sandnes: Julefrokost og konsert med SSO
END:VEVENT
END:VCALENDAR
