BEGIN:VCALENDAR
VERSION:2.0
PRODID:-//Markedspartner//HubSpot Event Export//EN
CALSCALE:GREGORIAN
METHOD:PUBLISH
BEGIN:VEVENT
UID:hubspot-2-39126766-239426454714@markedspartner.no
DTSTAMP:20260419T192127Z
DTSTART:20260106T093000Z
DTEND:20260106T123000Z
SUMMARY:Aksjeåret 2026
END:VEVENT
END:VCALENDAR
