BEGIN:VCALENDAR
VERSION:2.0
PRODID:-//Markedspartner//HubSpot Event Export//EN
CALSCALE:GREGORIAN
METHOD:PUBLISH
BEGIN:VEVENT
UID:hubspot-2-39126766-241365624046@markedspartner.no
DTSTAMP:20260419T164951Z
DTSTART:20251114T073000Z
DTEND:20251114T110000Z
SUMMARY:Verdiskapingsforum UiS
END:VEVENT
END:VCALENDAR
