BEGIN:VCALENDAR
VERSION:2.0
PRODID:-//Markedspartner//HubSpot Event Export//EN
CALSCALE:GREGORIAN
METHOD:PUBLISH
BEGIN:VEVENT
UID:hubspot-2-39126766-243224401109@markedspartner.no
DTSTAMP:20260420T013616Z
DTSTART:20250930T070000Z
DTEND:20250930T080000Z
SUMMARY:Morning Connections 
END:VEVENT
END:VCALENDAR
