BEGIN:VCALENDAR
VERSION:2.0
PRODID:-//Markedspartner//HubSpot Event Export//EN
CALSCALE:GREGORIAN
METHOD:PUBLISH
BEGIN:VEVENT
UID:hubspot-2-39126766-248152081616@markedspartner.no
DTSTAMP:20260419T164950Z
DTSTART:20251031T070000Z
DTEND:20251031T110000Z
SUMMARY:Risavikadagen 2025
END:VEVENT
END:VCALENDAR
