BEGIN:VCALENDAR
VERSION:2.0
PRODID:-//Markedspartner//HubSpot Event Export//EN
CALSCALE:GREGORIAN
METHOD:PUBLISH
BEGIN:VEVENT
UID:hubspot-2-39126766-248155676866@markedspartner.no
DTSTAMP:20260420T014553Z
DTSTART:20251110T080000Z
DTEND:20251110T101500Z
SUMMARY:Lean-besøk til Laerdal Medical
END:VEVENT
END:VCALENDAR
