BEGIN:VCALENDAR
VERSION:2.0
PRODID:-//Markedspartner//HubSpot Event Export//EN
CALSCALE:GREGORIAN
METHOD:PUBLISH
BEGIN:VEVENT
UID:hubspot-2-39126766-248427671776@markedspartner.no
DTSTAMP:20260419T164920Z
DTSTART:20251029T073000Z
DTEND:20251029T093000Z
SUMMARY:AGENDA BYGG: Derfor bygger de billigere i Sverige
END:VEVENT
END:VCALENDAR
