BEGIN:VCALENDAR
VERSION:2.0
PRODID:-//Markedspartner//HubSpot Event Export//EN
CALSCALE:GREGORIAN
METHOD:PUBLISH
BEGIN:VEVENT
UID:hubspot-2-39126766-249073209539@markedspartner.no
DTSTAMP:20260420T041126Z
DTSTART:20251202T111500Z
DTEND:20251202T121500Z
SUMMARY:Historical hour at Domkirken
END:VEVENT
END:VCALENDAR
