BEGIN:VCALENDAR
VERSION:2.0
PRODID:-//Markedspartner//HubSpot Event Export//EN
CALSCALE:GREGORIAN
METHOD:PUBLISH
BEGIN:VEVENT
UID:hubspot-2-39126766-249585201373@markedspartner.no
DTSTAMP:20260419T164922Z
DTSTART:20251202T074000Z
DTEND:20251202T090000Z
SUMMARY:Morning Connections
END:VEVENT
END:VCALENDAR
