BEGIN:VCALENDAR
VERSION:2.0
PRODID:-//Markedspartner//HubSpot Event Export//EN
CALSCALE:GREGORIAN
METHOD:PUBLISH
BEGIN:VEVENT
UID:hubspot-2-39126766-253004814524@markedspartner.no
DTSTAMP:20260419T192126Z
DTSTART:20251113T080000Z
DTEND:20251113T100000Z
SUMMARY:BDOs bygg- og anleggsanalyse 2025: Dette er trendene
END:VEVENT
END:VCALENDAR
