BEGIN:VCALENDAR
VERSION:2.0
PRODID:-//Markedspartner//HubSpot Event Export//EN
CALSCALE:GREGORIAN
METHOD:PUBLISH
BEGIN:VEVENT
UID:hubspot-2-39126766-256316379327@markedspartner.no
DTSTAMP:20260419T192127Z
DTSTART:20251029T170000Z
DTEND:20251029T190000Z
SUMMARY:Steps to Getting Your Norwegian Driver’s License
END:VEVENT
END:VCALENDAR
