BEGIN:VCALENDAR
VERSION:2.0
PRODID:-//Markedspartner//HubSpot Event Export//EN
CALSCALE:GREGORIAN
METHOD:PUBLISH
BEGIN:VEVENT
UID:hubspot-2-39126766-260688335084@markedspartner.no
DTSTAMP:20260420T065635Z
DTSTART:20251231T070000Z
DTEND:20251231T070000Z
SUMMARY:SCI Membership 2025 
END:VEVENT
END:VCALENDAR
