BEGIN:VCALENDAR
VERSION:2.0
PRODID:-//Markedspartner//HubSpot Event Export//EN
CALSCALE:GREGORIAN
METHOD:PUBLISH
BEGIN:VEVENT
UID:hubspot-2-39126766-261378395379@markedspartner.no
DTSTAMP:20260422T092625Z
DTSTART:20260211T080000Z
DTEND:20260211T113000Z
SUMMARY:UTSIKTER 2026
END:VEVENT
END:VCALENDAR
