BEGIN:VCALENDAR
VERSION:2.0
PRODID:-//Markedspartner//HubSpot Event Export//EN
CALSCALE:GREGORIAN
METHOD:PUBLISH
BEGIN:VEVENT
UID:hubspot-2-39126766-263054314736@markedspartner.no
DTSTAMP:20260419T164919Z
DTSTART:20260317T173000Z
DTEND:20260317T200000Z
SUMMARY:Starting a business: Reaching Your First Customers
END:VEVENT
END:VCALENDAR
