BEGIN:VCALENDAR
VERSION:2.0
PRODID:-//Markedspartner//HubSpot Event Export//EN
CALSCALE:GREGORIAN
METHOD:PUBLISH
BEGIN:VEVENT
UID:hubspot-2-39126766-263055811819@markedspartner.no
DTSTAMP:20260420T120004Z
DTSTART:20261117T173000Z
DTEND:20261117T200000Z
SUMMARY:Starting a business: Strong governance
END:VEVENT
END:VCALENDAR
