BEGIN:VCALENDAR
VERSION:2.0
PRODID:-//Markedspartner//HubSpot Event Export//EN
CALSCALE:GREGORIAN
METHOD:PUBLISH
BEGIN:VEVENT
UID:hubspot-2-39126766-263056530654@markedspartner.no
DTSTAMP:20260419T192127Z
DTSTART:20260922T163000Z
DTEND:20260921T190000Z
SUMMARY:Starting a business: From Start-Up Costs to Pricing Strategy
END:VEVENT
END:VCALENDAR
