BEGIN:VCALENDAR
VERSION:2.0
PRODID:-//Markedspartner//HubSpot Event Export//EN
CALSCALE:GREGORIAN
METHOD:PUBLISH
BEGIN:VEVENT
UID:hubspot-2-39126766-263260212426@markedspartner.no
DTSTAMP:20260419T192017Z
DTSTART:20260120T173000Z
DTEND:20260120T200000Z
SUMMARY:Starting a business: Shaping ideas and finding support.
END:VEVENT
END:VCALENDAR
