BEGIN:VCALENDAR
VERSION:2.0
PRODID:-//Markedspartner//HubSpot Event Export//EN
CALSCALE:GREGORIAN
METHOD:PUBLISH
BEGIN:VEVENT
UID:hubspot-2-39126766-266272250057@markedspartner.no
DTSTAMP:20260420T013615Z
DTSTART:20251212T180000Z
DTEND:20251212T194500Z
SUMMARY:Christmas Concert with Stavanger Symphony Orchestra 
END:VEVENT
END:VCALENDAR
