BEGIN:VCALENDAR
VERSION:2.0
PRODID:-//Markedspartner//HubSpot Event Export//EN
CALSCALE:GREGORIAN
METHOD:PUBLISH
BEGIN:VEVENT
UID:hubspot-2-39126766-266272250081@markedspartner.no
DTSTAMP:20260419T164948Z
DTSTART:20260108T183000Z
DTEND:20260108T203000Z
SUMMARY:New years Concert with SSO
END:VEVENT
END:VCALENDAR
