BEGIN:VCALENDAR
VERSION:2.0
PRODID:-//Markedspartner//HubSpot Event Export//EN
CALSCALE:GREGORIAN
METHOD:PUBLISH
BEGIN:VEVENT
UID:hubspot-2-39126766-266324796639@markedspartner.no
DTSTAMP:20260419T192128Z
DTSTART:20251125T170000Z
DTEND:20251125T190000Z
SUMMARY:Understanding Norwegians - Living in a Tight Culture
END:VEVENT
END:VCALENDAR
