BEGIN:VCALENDAR
VERSION:2.0
PRODID:-//Markedspartner//HubSpot Event Export//EN
CALSCALE:GREGORIAN
METHOD:PUBLISH
BEGIN:VEVENT
UID:hubspot-2-39126766-266324801750@markedspartner.no
DTSTAMP:20260419T192127Z
DTSTART:20260101T070000Z
DTEND:20261230T230000Z
SUMMARY:SCI Membership 2026
END:VEVENT
END:VCALENDAR
