BEGIN:VCALENDAR
VERSION:2.0
PRODID:-//Markedspartner//HubSpot Event Export//EN
CALSCALE:GREGORIAN
METHOD:PUBLISH
BEGIN:VEVENT
UID:hubspot-2-39126766-267138414815@markedspartner.no
DTSTAMP:20260420T013617Z
DTSTART:20251105T173000Z
DTEND:20251105T200000Z
SUMMARY:Buying a House?
END:VEVENT
END:VCALENDAR
