BEGIN:VCALENDAR
VERSION:2.0
PRODID:-//Markedspartner//HubSpot Event Export//EN
CALSCALE:GREGORIAN
METHOD:PUBLISH
BEGIN:VEVENT
UID:hubspot-2-39126766-267786556602@markedspartner.no
DTSTAMP:20260419T233808Z
DTSTART:20251202T100000Z
DTEND:20251202T130000Z
SUMMARY:Business opportunities: Rebuild Ukraine
END:VEVENT
END:VCALENDAR
