BEGIN:VCALENDAR
VERSION:2.0
PRODID:-//Markedspartner//HubSpot Event Export//EN
CALSCALE:GREGORIAN
METHOD:PUBLISH
BEGIN:VEVENT
UID:hubspot-2-39126766-267894613210@markedspartner.no
DTSTAMP:20260420T041252Z
DTSTART:20251202T100000Z
DTEND:20251202T130000Z
SUMMARY:Ukraina og Rogaland - samarbeid for vekst og gjenoppbygging
END:VEVENT
END:VCALENDAR
