BEGIN:VCALENDAR
VERSION:2.0
PRODID:-//Markedspartner//HubSpot Event Export//EN
CALSCALE:GREGORIAN
METHOD:PUBLISH
BEGIN:VEVENT
UID:hubspot-2-39126766-267939885250@markedspartner.no
DTSTAMP:20260419T192017Z
DTSTART:20251118T070000Z
DTEND:20251118T090000Z
SUMMARY:Energifrokost: Hva kan roboter og KI gjøre for norsk sokkel?
END:VEVENT
END:VCALENDAR
