BEGIN:VCALENDAR
VERSION:2.0
PRODID:-//Markedspartner//HubSpot Event Export//EN
CALSCALE:GREGORIAN
METHOD:PUBLISH
BEGIN:VEVENT
UID:hubspot-2-39126766-268075635911@markedspartner.no
DTSTAMP:20260420T041239Z
DTSTART:20251126T160000Z
DTEND:20251126T200000Z
SUMMARY:Kreative næringer: Bransjevandring
END:VEVENT
END:VCALENDAR
