BEGIN:VCALENDAR
VERSION:2.0
PRODID:-//Markedspartner//HubSpot Event Export//EN
CALSCALE:GREGORIAN
METHOD:PUBLISH
BEGIN:VEVENT
UID:hubspot-2-39126766-268075645129@markedspartner.no
DTSTAMP:20260420T053228Z
DTSTART:20260313T073000Z
DTEND:20260313T093000Z
SUMMARY:B2B Nettverksfrokost for nye medlemmer
END:VEVENT
END:VCALENDAR
