BEGIN:VCALENDAR
VERSION:2.0
PRODID:-//Markedspartner//HubSpot Event Export//EN
CALSCALE:GREGORIAN
METHOD:PUBLISH
BEGIN:VEVENT
UID:hubspot-2-39126766-268075645131@markedspartner.no
DTSTAMP:20260419T192017Z
DTSTART:20260911T063000Z
DTEND:20260911T083000Z
SUMMARY:B2B Nettverksfrokost for nye medlemmer
END:VEVENT
END:VCALENDAR
